BEGIN:VCALENDAR
VERSION:2.0
PRODID:-//tonart hochstadt - ECPv6.15.20//NONSGML v1.0//EN
CALSCALE:GREGORIAN
METHOD:PUBLISH
X-WR-CALNAME:tonart hochstadt
X-ORIGINAL-URL:https://tonart-hochstadt.info
X-WR-CALDESC:Veranstaltungen für tonart hochstadt
REFRESH-INTERVAL;VALUE=DURATION:PT1H
X-Robots-Tag:noindex
X-PUBLISHED-TTL:PT1H
BEGIN:VTIMEZONE
TZID:Europe/Berlin
BEGIN:DAYLIGHT
TZOFFSETFROM:+0100
TZOFFSETTO:+0200
TZNAME:CEST
DTSTART:20240331T010000
END:DAYLIGHT
BEGIN:STANDARD
TZOFFSETFROM:+0200
TZOFFSETTO:+0100
TZNAME:CET
DTSTART:20241027T010000
END:STANDARD
BEGIN:DAYLIGHT
TZOFFSETFROM:+0100
TZOFFSETTO:+0200
TZNAME:CEST
DTSTART:20250330T010000
END:DAYLIGHT
BEGIN:STANDARD
TZOFFSETFROM:+0200
TZOFFSETTO:+0100
TZNAME:CET
DTSTART:20251026T010000
END:STANDARD
BEGIN:DAYLIGHT
TZOFFSETFROM:+0100
TZOFFSETTO:+0200
TZNAME:CEST
DTSTART:20260329T010000
END:DAYLIGHT
BEGIN:STANDARD
TZOFFSETFROM:+0200
TZOFFSETTO:+0100
TZNAME:CET
DTSTART:20261025T010000
END:STANDARD
END:VTIMEZONE
BEGIN:VEVENT
DTSTART;TZID=Europe/Berlin:20250112T150000
DTEND;TZID=Europe/Berlin:20250112T170000
DTSTAMP:20260424T124146
CREATED:20250107T060006Z
LAST-MODIFIED:20250107T060006Z
UID:3524-1736694000-1736701200@tonart-hochstadt.info
SUMMARY:Auftritt Neujahrsempfang Hochstadt
DESCRIPTION:Treffpunkt 14:15 Uhr Sängersaal
URL:https://tonart-hochstadt.info/event/auftritt-neujahrsempfang-hochstadt/
LOCATION:DGH Hochstadt\, Hauptstrasse 200\, Hochstadt\, 76829\, Deutschland
CATEGORIES:Auftritt
END:VEVENT
END:VCALENDAR