BEGIN:VCALENDAR
VERSION:2.0
PRODID:-//tonart hochstadt - ECPv6.15.20//NONSGML v1.0//EN
CALSCALE:GREGORIAN
METHOD:PUBLISH
X-WR-CALNAME:tonart hochstadt
X-ORIGINAL-URL:https://tonart-hochstadt.info
X-WR-CALDESC:Veranstaltungen für tonart hochstadt
REFRESH-INTERVAL;VALUE=DURATION:PT1H
X-Robots-Tag:noindex
X-PUBLISHED-TTL:PT1H
BEGIN:VTIMEZONE
TZID:Europe/Berlin
BEGIN:DAYLIGHT
TZOFFSETFROM:+0100
TZOFFSETTO:+0200
TZNAME:CEST
DTSTART:20230326T010000
END:DAYLIGHT
BEGIN:STANDARD
TZOFFSETFROM:+0200
TZOFFSETTO:+0100
TZNAME:CET
DTSTART:20231029T010000
END:STANDARD
BEGIN:DAYLIGHT
TZOFFSETFROM:+0100
TZOFFSETTO:+0200
TZNAME:CEST
DTSTART:20240331T010000
END:DAYLIGHT
BEGIN:STANDARD
TZOFFSETFROM:+0200
TZOFFSETTO:+0100
TZNAME:CET
DTSTART:20241027T010000
END:STANDARD
BEGIN:DAYLIGHT
TZOFFSETFROM:+0100
TZOFFSETTO:+0200
TZNAME:CEST
DTSTART:20250330T010000
END:DAYLIGHT
BEGIN:STANDARD
TZOFFSETFROM:+0200
TZOFFSETTO:+0100
TZNAME:CET
DTSTART:20251026T010000
END:STANDARD
BEGIN:DAYLIGHT
TZOFFSETFROM:+0100
TZOFFSETTO:+0200
TZNAME:CEST
DTSTART:20260329T010000
END:DAYLIGHT
BEGIN:STANDARD
TZOFFSETFROM:+0200
TZOFFSETTO:+0100
TZNAME:CET
DTSTART:20261025T010000
END:STANDARD
BEGIN:DAYLIGHT
TZOFFSETFROM:+0100
TZOFFSETTO:+0200
TZNAME:CEST
DTSTART:20270328T010000
END:DAYLIGHT
BEGIN:STANDARD
TZOFFSETFROM:+0200
TZOFFSETTO:+0100
TZNAME:CET
DTSTART:20271031T010000
END:STANDARD
END:VTIMEZONE
BEGIN:VEVENT
DTSTART;TZID=Europe/Berlin:20260307T160000
DTEND;TZID=Europe/Berlin:20260307T230000
DTSTAMP:20260421T105627
CREATED:20251204T164741Z
LAST-MODIFIED:20251204T164741Z
UID:3673-1772899200-1772924400@tonart-hochstadt.info
SUMMARY:Konzert mit HoNas & Canto Allegro
DESCRIPTION:
URL:https://tonart-hochstadt.info/event/konzert-mit-honas-canto-allegro/
LOCATION:DGH Hochstadt\, Hauptstrasse 200\, Hochstadt\, 76829\, Deutschland
CATEGORIES:Auftritt
END:VEVENT
BEGIN:VEVENT
DTSTART;TZID=Europe/Berlin:20260306T180000
DTEND;TZID=Europe/Berlin:20260306T200000
DTSTAMP:20260421T105627
CREATED:20251204T164621Z
LAST-MODIFIED:20251204T164621Z
UID:3671-1772820000-1772827200@tonart-hochstadt.info
SUMMARY:Probe mit Matthias
DESCRIPTION:
URL:https://tonart-hochstadt.info/event/probe-mit-matthias-2/
LOCATION:Sängersaal\, Hauptstraße 200\, Hochstadt\, 76879\, Deutschland
CATEGORIES:Probe
END:VEVENT
BEGIN:VEVENT
DTSTART;TZID=Europe/Berlin:20260206T180000
DTEND;TZID=Europe/Berlin:20260206T200000
DTSTAMP:20260421T105627
CREATED:20251204T164501Z
LAST-MODIFIED:20251204T164501Z
UID:3669-1770400800-1770408000@tonart-hochstadt.info
SUMMARY:Probe mit Matthias
DESCRIPTION:
URL:https://tonart-hochstadt.info/event/probe-mit-matthias/
CATEGORIES:Probe
END:VEVENT
BEGIN:VEVENT
DTSTART;TZID=Europe/Berlin:20260201T133000
DTEND;TZID=Europe/Berlin:20260201T173000
DTSTAMP:20260421T105627
CREATED:20251204T164416Z
LAST-MODIFIED:20251204T164416Z
UID:3667-1769952600-1769967000@tonart-hochstadt.info
SUMMARY:Probensonntag
DESCRIPTION:
URL:https://tonart-hochstadt.info/event/probensonntag/
LOCATION:Sängersaal\, Hauptstraße 200\, Hochstadt\, 76879\, Deutschland
CATEGORIES:Probe
END:VEVENT
BEGIN:VEVENT
DTSTART;TZID=Europe/Berlin:20260116T170000
DTEND;TZID=Europe/Berlin:20260118T120000
DTSTAMP:20260421T105627
CREATED:20251204T164302Z
LAST-MODIFIED:20251204T164302Z
UID:3665-1768582800-1768737600@tonart-hochstadt.info
SUMMARY:Chorwochenende 2026 Pirmasens
DESCRIPTION:
URL:https://tonart-hochstadt.info/event/chorwochenende-2026-pirmasens/
LOCATION:Jugendherberge Pirmasens\, Schützenstraße 12-14\, Pirmasens\, 66953\, Deutschland
CATEGORIES:Probe
END:VEVENT
BEGIN:VEVENT
DTSTART;TZID=Europe/Berlin:20251215T180000
DTEND;TZID=Europe/Berlin:20251215T190000
DTSTAMP:20260421T105627
CREATED:20251204T164146Z
LAST-MODIFIED:20251204T164146Z
UID:3663-1765821600-1765825200@tonart-hochstadt.info
SUMMARY:Adventsfenster
DESCRIPTION:
URL:https://tonart-hochstadt.info/event/adventsfenster/
LOCATION:Alter Schulhof\, Hauptstraße 200\, Hochstadt\, 76879\, Deutschland
CATEGORIES:Veranstaltung
END:VEVENT
BEGIN:VEVENT
DTSTART;TZID=Europe/Berlin:20251129T170000
DTEND;TZID=Europe/Berlin:20251129T190000
DTSTAMP:20260421T105627
CREATED:20250725T064149Z
LAST-MODIFIED:20251127T134758Z
UID:3590-1764435600-1764442800@tonart-hochstadt.info
SUMMARY:Konzert in Maikammer
DESCRIPTION:
URL:https://tonart-hochstadt.info/event/konzert-in-maikammer/
LOCATION:Katholische Kirche Maikammer\, Weinstraße N 23\, Maikammer\, 67487\, Germany
CATEGORIES:Auftritt
END:VEVENT
BEGIN:VEVENT
DTSTART;TZID=Europe/Berlin:20251109T180000
DTEND;TZID=Europe/Berlin:20251109T200000
DTSTAMP:20260421T105627
CREATED:20250725T064025Z
LAST-MODIFIED:20250725T064513Z
UID:3588-1762711200-1762718400@tonart-hochstadt.info
SUMMARY:Konzert
DESCRIPTION:
URL:https://tonart-hochstadt.info/event/konzert-8/
CATEGORIES:Auftritt
END:VEVENT
BEGIN:VEVENT
DTSTART;TZID=Europe/Berlin:20250815T180000
DTEND;TZID=Europe/Berlin:20250815T200000
DTSTAMP:20260421T105627
CREATED:20250725T070055Z
LAST-MODIFIED:20250725T083033Z
UID:3592-1755280800-1755288000@tonart-hochstadt.info
SUMMARY:Ende Sommerpause
DESCRIPTION:Qr-Code
URL:https://tonart-hochstadt.info/event/ende-sommerpause/
LOCATION:Sängersaal\, Hauptstraße 200\, Hochstadt\, 76879\, Deutschland
CATEGORIES:Probe
END:VEVENT
BEGIN:VEVENT
DTSTART;TZID=Europe/Berlin:20250710T190000
DTEND;TZID=Europe/Berlin:20250710T233000
DTSTAMP:20260421T105627
CREATED:20250610T133236Z
LAST-MODIFIED:20250610T133236Z
UID:3575-1752174000-1752190200@tonart-hochstadt.info
SUMMARY:Mitgliederversammlung
DESCRIPTION:Tagesordnung: \n1.)	Begrüßung mit Totengedenken\n2.)	Berichte\n a)	der 1. Vorsitzenden\n b)	der 2. Vorsitzenden\n c)	der Schriftführerin\n d)	der Kassenwartin\n e)	des Chorleiters\n	des Chorsprechers\n	der Kassenprüfer\n3.)	Aussprache zu den Berichten nach dem jeweiligen Bericht\n4.)	Entlastungserteilung\n5.)	Neuwahlen der Vorstandschaft\n a)	Vorsitzende ( r )\n b)	stellv. Vorsitzende ( r )\n c)	Schriftführer /in\n d)	stellv. Schriftführer/in\n e)	Rechner /in\n f)	stellv. Rechner/in\n g)	Beisitzer\n h)	Bestätigung Chorsprecher (wird vom Chor gewählt)\n i)	Kassenprüfer\n6.)	Satzungsänderung\nDie Beschlussvorlage umfasst folgende Punkte:\n§ 1 Chöre des Vereins\n§ 3 Aufnahme von Mitgliedern\n§§ 4 und 8 Festlegung des Beitrags in einer gesonderten Beitragsordnung\n§ 9 Anzahl der Beisitzer\, Wahl der Chorsprecher\n§ 11 Verzicht auf eine Geschäftsordnung\, Erlass von Vereinsordnungen\n§ 13 Inkrafttreten der Satzung\n7.)	Vorschau auf Veranstaltungen im Jahr 2025/26\n8.)	Verschiedenes\, Wünsche\, Anträge\n9.)	Schlusslied
URL:https://tonart-hochstadt.info/event/mitgliederversammlung-2/
LOCATION:Sängersaal\, Hauptstraße 200\, Hochstadt\, 76879\, Deutschland
CATEGORIES:Veranstaltung
END:VEVENT
BEGIN:VEVENT
DTSTART;TZID=Europe/Berlin:20250613T200000
DTEND;TZID=Europe/Berlin:20250613T230000
DTSTAMP:20260421T105627
CREATED:20250107T061956Z
LAST-MODIFIED:20250610T132404Z
UID:3530-1749844800-1749855600@tonart-hochstadt.info
SUMMARY:Mitgliederversammlung Förderverein
DESCRIPTION:nach Probe
URL:https://tonart-hochstadt.info/event/mitgliederversammlung/
LOCATION:Sängersaal\, Hauptstraße 200\, Hochstadt\, 76879\, Deutschland
CATEGORIES:Veranstaltung
END:VEVENT
BEGIN:VEVENT
DTSTART;TZID=Europe/Berlin:20250529T060000
DTEND;TZID=Europe/Berlin:20250601T230000
DTSTAMP:20260421T105627
CREATED:20240623T192622Z
LAST-MODIFIED:20240623T192622Z
UID:3468-1748498400-1748818800@tonart-hochstadt.info
SUMMARY:Chorfest 2025 Nürnberg
DESCRIPTION:
URL:https://tonart-hochstadt.info/event/chorfest-2025-nuernberg/
LOCATION:Ibis Hotel\, Nürnberg\, Steinbühler Str. 2\, Nürnberg\, 90443\, Deutschland
CATEGORIES:Auftritt,Probe,Veranstaltung
END:VEVENT
BEGIN:VEVENT
DTSTART;TZID=Europe/Berlin:20250328T200000
DTEND;TZID=Europe/Berlin:20250328T220000
DTSTAMP:20260421T105627
CREATED:20250107T061616Z
LAST-MODIFIED:20250306T140728Z
UID:3526-1743192000-1743199200@tonart-hochstadt.info
SUMMARY:ausserordentliche Mitgliederversammlung
DESCRIPTION:nach Chorprobe
URL:https://tonart-hochstadt.info/event/ausserordentliche-mitgliederversammlung/
LOCATION:Sängersaal\, Hauptstraße 200\, Hochstadt\, 76879\, Deutschland
CATEGORIES:Veranstaltung
END:VEVENT
BEGIN:VEVENT
DTSTART;TZID=Europe/Berlin:20250316T170000
DTEND;TZID=Europe/Berlin:20250316T233000
DTSTAMP:20260421T105627
CREATED:20240717T200300Z
LAST-MODIFIED:20240717T200515Z
UID:3475-1742144400-1742167800@tonart-hochstadt.info
SUMMARY:Konzert
DESCRIPTION:
URL:https://tonart-hochstadt.info/event/konzert-7/
CATEGORIES:Auftritt
END:VEVENT
BEGIN:VEVENT
DTSTART;TZID=Europe/Berlin:20250315T170000
DTEND;TZID=Europe/Berlin:20250315T230000
DTSTAMP:20260421T105627
CREATED:20240717T200139Z
LAST-MODIFIED:20240717T200416Z
UID:3473-1742058000-1742079600@tonart-hochstadt.info
SUMMARY:Konzert
DESCRIPTION:
URL:https://tonart-hochstadt.info/event/konzert-6/
CATEGORIES:Auftritt
END:VEVENT
BEGIN:VEVENT
DTSTART;TZID=Europe/Berlin:20250314T180000
DTEND;TZID=Europe/Berlin:20250314T203000
DTSTAMP:20260421T105627
CREATED:20250107T061800Z
LAST-MODIFIED:20250107T061800Z
UID:3528-1741975200-1741984200@tonart-hochstadt.info
SUMMARY:Generalprobe mit Matthias
DESCRIPTION:
URL:https://tonart-hochstadt.info/event/generalprobe-mit-matthias/
LOCATION:Sängersaal\, Hauptstraße 200\, Hochstadt\, 76879\, Deutschland
CATEGORIES:Probe
END:VEVENT
BEGIN:VEVENT
DTSTART;TZID=Europe/Berlin:20250215T100000
DTEND;TZID=Europe/Berlin:20250215T160000
DTSTAMP:20260421T105627
CREATED:20240717T200637Z
LAST-MODIFIED:20250107T061306Z
UID:3477-1739613600-1739635200@tonart-hochstadt.info
SUMMARY:Probesamstag
DESCRIPTION:
URL:https://tonart-hochstadt.info/event/probesamstag-2/
LOCATION:Sängersaal\, Hauptstraße 200\, Hochstadt\, 76879\, Deutschland
CATEGORIES:Probe
END:VEVENT
BEGIN:VEVENT
DTSTART;TZID=Europe/Berlin:20250117T170000
DTEND;TZID=Europe/Berlin:20250119T130000
DTSTAMP:20260421T105627
CREATED:20240623T192204Z
LAST-MODIFIED:20240717T195930Z
UID:3466-1737133200-1737291600@tonart-hochstadt.info
SUMMARY:Chorwochenende
DESCRIPTION:
URL:https://tonart-hochstadt.info/event/chorwochenende/
LOCATION:Jugendherberge Pirmasens\, Schützenstraße 12-14\, Pirmasens\, 66953\, Deutschland
CATEGORIES:Probe
END:VEVENT
BEGIN:VEVENT
DTSTART;TZID=Europe/Berlin:20250112T150000
DTEND;TZID=Europe/Berlin:20250112T170000
DTSTAMP:20260421T105627
CREATED:20250107T060006Z
LAST-MODIFIED:20250107T060006Z
UID:3524-1736694000-1736701200@tonart-hochstadt.info
SUMMARY:Auftritt Neujahrsempfang Hochstadt
DESCRIPTION:Treffpunkt 14:15 Uhr Sängersaal
URL:https://tonart-hochstadt.info/event/auftritt-neujahrsempfang-hochstadt/
LOCATION:DGH Hochstadt\, Hauptstrasse 200\, Hochstadt\, 76829\, Deutschland
CATEGORIES:Auftritt
END:VEVENT
BEGIN:VEVENT
DTSTART;TZID=Europe/Berlin:20241116T080000
DTEND;TZID=Europe/Berlin:20241116T170000
DTSTAMP:20260421T105627
CREATED:20240717T200744Z
LAST-MODIFIED:20240717T200744Z
UID:3479-1731744000-1731776400@tonart-hochstadt.info
SUMMARY:Probesamstag
DESCRIPTION:
URL:https://tonart-hochstadt.info/event/probesamstag-3/
LOCATION:Sängersaal\, Hauptstraße 200\, Hochstadt\, 76879\, Deutschland
CATEGORIES:Probe
END:VEVENT
BEGIN:VEVENT
DTSTART;TZID=Europe/Berlin:20240906T150000
DTEND;TZID=Europe/Berlin:20240908T233000
DTSTAMP:20260421T105627
CREATED:20240623T191948Z
LAST-MODIFIED:20240623T192030Z
UID:3464-1725634800-1725838200@tonart-hochstadt.info
SUMMARY:Kerwe
DESCRIPTION:
URL:https://tonart-hochstadt.info/event/kerwe-2/
LOCATION:DGH Hochstadt\, Hauptstrasse 200\, Hochstadt\, 76829\, Deutschland
CATEGORIES:Veranstaltung
END:VEVENT
BEGIN:VEVENT
DTSTART;TZID=Europe/Berlin:20240816T180000
DTEND;TZID=Europe/Berlin:20240816T200000
DTSTAMP:20260421T105627
CREATED:20240623T191557Z
LAST-MODIFIED:20240623T191557Z
UID:3462-1723831200-1723838400@tonart-hochstadt.info
SUMMARY:Erste Probe nach der Sommerpause
DESCRIPTION:
URL:https://tonart-hochstadt.info/event/erste-probe-nach-der-sommerpause/
LOCATION:Sängersaal\, Hauptstraße 200\, Hochstadt\, 76879\, Deutschland
CATEGORIES:Probe
END:VEVENT
BEGIN:VEVENT
DTSTART;TZID=Europe/Berlin:20240719T180000
DTEND;TZID=Europe/Berlin:20240719T233000
DTSTAMP:20260421T105627
CREATED:20240623T191358Z
LAST-MODIFIED:20240623T191431Z
UID:3459-1721412000-1721431800@tonart-hochstadt.info
SUMMARY:Letzte Probe und Abschlussessen bei Dogan
DESCRIPTION:
URL:https://tonart-hochstadt.info/event/letzte-probe-und-abschlussessen-bei-dogan/
LOCATION:Dogan Grill Restaurant\, Ottersheimer Str. 2a\, Offenbach an der Queich\, 76877\, Deutschland
CATEGORIES:Probe,Veranstaltung
END:VEVENT
BEGIN:VEVENT
DTSTART;TZID=Europe/Berlin:20240714T100000
DTEND;TZID=Europe/Berlin:20240714T223000
DTSTAMP:20260421T105627
CREATED:20240324T192325Z
LAST-MODIFIED:20240623T190839Z
UID:3353-1720951200-1720996200@tonart-hochstadt.info
SUMMARY:Workshop mit Miriam
DESCRIPTION:Workshop mit Miriam Umhauer
URL:https://tonart-hochstadt.info/event/workshop-und-sommerfest/
LOCATION:Sängersaal\, Hauptstraße 200\, Hochstadt\, 76879\, Deutschland
CATEGORIES:Probe,Veranstaltung
END:VEVENT
BEGIN:VEVENT
DTSTART;TZID=Europe/Berlin:20240621T193000
DTEND;TZID=Europe/Berlin:20240621T230000
DTSTAMP:20260421T105627
CREATED:20240324T192109Z
LAST-MODIFIED:20240405T083956Z
UID:3350-1718998200-1719010800@tonart-hochstadt.info
SUMMARY:Generalversammlung
DESCRIPTION:
URL:https://tonart-hochstadt.info/event/generalversammlung-2/
LOCATION:Sängersaal\, Hauptstraße 200\, Hochstadt\, 76879\, Deutschland
CATEGORIES:Veranstaltung
END:VEVENT
BEGIN:VEVENT
DTSTART;TZID=Europe/Berlin:20240616T170000
DTEND;TZID=Europe/Berlin:20240616T223000
DTSTAMP:20260421T105627
CREATED:20230824T081657Z
LAST-MODIFIED:20240515T103640Z
UID:3202-1718557200-1718577000@tonart-hochstadt.info
SUMMARY:Konzert Waldfischbach
DESCRIPTION:
URL:https://tonart-hochstadt.info/event/konzert-5/
LOCATION:Protestantische Kirche Waldfischbach\, Hauptstraße 54\, Waldfischbach-Burgalben\, 67714\, Deutschland
CATEGORIES:Auftritt
END:VEVENT
BEGIN:VEVENT
DTSTART;TZID=Europe/Berlin:20240615T190000
DTEND;TZID=Europe/Berlin:20240615T230000
DTSTAMP:20260421T105627
CREATED:20230824T081611Z
LAST-MODIFIED:20240405T093642Z
UID:3200-1718478000-1718492400@tonart-hochstadt.info
SUMMARY:Konzert Neustadt
DESCRIPTION:
URL:https://tonart-hochstadt.info/event/konzert-4/
LOCATION:Konzertsaal im GDA Stift Neustadt\, Haardter Str. 6\, Neustadt an der Weinstraße\, 67433\, Deutschland
CATEGORIES:Auftritt
END:VEVENT
BEGIN:VEVENT
DTSTART;TZID=Europe/Berlin:20240614T180000
DTEND;TZID=Europe/Berlin:20240614T200000
DTSTAMP:20260421T105627
CREATED:20240324T191430Z
LAST-MODIFIED:20240324T191430Z
UID:3342-1718388000-1718395200@tonart-hochstadt.info
SUMMARY:Generalprobe mit Klavier
DESCRIPTION:
URL:https://tonart-hochstadt.info/event/generalprobe-mit-klavier/
LOCATION:Sängersaal\, Hauptstraße 200\, Hochstadt\, 76879\, Deutschland
CATEGORIES:Probe
END:VEVENT
BEGIN:VEVENT
DTSTART;TZID=Europe/Berlin:20240524T193000
DTEND;TZID=Europe/Berlin:20240524T203000
DTSTAMP:20260421T105627
CREATED:20240324T191254Z
LAST-MODIFIED:20240324T191254Z
UID:3340-1716579000-1716582600@tonart-hochstadt.info
SUMMARY:Probe: Kleingruppe
DESCRIPTION:
URL:https://tonart-hochstadt.info/event/probe-kleingruppe-4/
LOCATION:Sängersaal\, Hauptstraße 200\, Hochstadt\, 76879\, Deutschland
CATEGORIES:Probe
END:VEVENT
BEGIN:VEVENT
DTSTART;TZID=Europe/Berlin:20240517T193000
DTEND;TZID=Europe/Berlin:20240517T203000
DTSTAMP:20260421T105627
CREATED:20240324T191156Z
LAST-MODIFIED:20240324T191156Z
UID:3338-1715974200-1715977800@tonart-hochstadt.info
SUMMARY:Probe: Kleingruppe
DESCRIPTION:
URL:https://tonart-hochstadt.info/event/probe-kleingruppe-3/
LOCATION:Sängersaal\, Hauptstraße 200\, Hochstadt\, 76879\, Deutschland
CATEGORIES:Probe
END:VEVENT
END:VCALENDAR