BEGIN:VCALENDAR
VERSION:2.0
PRODID:-//tonart hochstadt - ECPv6.15.20//NONSGML v1.0//EN
CALSCALE:GREGORIAN
METHOD:PUBLISH
X-ORIGINAL-URL:https://tonart-hochstadt.info
X-WR-CALDESC:Veranstaltungen für tonart hochstadt
REFRESH-INTERVAL;VALUE=DURATION:PT1H
X-Robots-Tag:noindex
X-PUBLISHED-TTL:PT1H
BEGIN:VTIMEZONE
TZID:Europe/Berlin
BEGIN:DAYLIGHT
TZOFFSETFROM:+0100
TZOFFSETTO:+0200
TZNAME:CEST
DTSTART:20220327T010000
END:DAYLIGHT
BEGIN:STANDARD
TZOFFSETFROM:+0200
TZOFFSETTO:+0100
TZNAME:CET
DTSTART:20221030T010000
END:STANDARD
BEGIN:DAYLIGHT
TZOFFSETFROM:+0100
TZOFFSETTO:+0200
TZNAME:CEST
DTSTART:20230326T010000
END:DAYLIGHT
BEGIN:STANDARD
TZOFFSETFROM:+0200
TZOFFSETTO:+0100
TZNAME:CET
DTSTART:20231029T010000
END:STANDARD
BEGIN:DAYLIGHT
TZOFFSETFROM:+0100
TZOFFSETTO:+0200
TZNAME:CEST
DTSTART:20240331T010000
END:DAYLIGHT
BEGIN:STANDARD
TZOFFSETFROM:+0200
TZOFFSETTO:+0100
TZNAME:CET
DTSTART:20241027T010000
END:STANDARD
END:VTIMEZONE
BEGIN:VEVENT
DTSTART;TZID=Europe/Berlin:20230211T110000
DTEND;TZID=Europe/Berlin:20230211T180000
DTSTAMP:20260426T020500
CREATED:20220903T133125Z
LAST-MODIFIED:20221016T143121Z
UID:2939-1676113200-1676138400@tonart-hochstadt.info
SUMMARY:Probesamstag
DESCRIPTION:
URL:https://tonart-hochstadt.info/event/probesamstag/
LOCATION:DGH Hochstadt\, Hauptstrasse 200\, Hochstadt\, 76829\, Deutschland
CATEGORIES:Probe
END:VEVENT
END:VCALENDAR