BEGIN:VCALENDAR
VERSION:2.0
PRODID:-//tonart hochstadt - ECPv6.15.20//NONSGML v1.0//EN
CALSCALE:GREGORIAN
METHOD:PUBLISH
X-ORIGINAL-URL:https://tonart-hochstadt.info
X-WR-CALDESC:Veranstaltungen für tonart hochstadt
REFRESH-INTERVAL;VALUE=DURATION:PT1H
X-Robots-Tag:noindex
X-PUBLISHED-TTL:PT1H
BEGIN:VTIMEZONE
TZID:Europe/Berlin
BEGIN:DAYLIGHT
TZOFFSETFROM:+0100
TZOFFSETTO:+0200
TZNAME:CEST
DTSTART:20220327T010000
END:DAYLIGHT
BEGIN:STANDARD
TZOFFSETFROM:+0200
TZOFFSETTO:+0100
TZNAME:CET
DTSTART:20221030T010000
END:STANDARD
BEGIN:DAYLIGHT
TZOFFSETFROM:+0100
TZOFFSETTO:+0200
TZNAME:CEST
DTSTART:20230326T010000
END:DAYLIGHT
BEGIN:STANDARD
TZOFFSETFROM:+0200
TZOFFSETTO:+0100
TZNAME:CET
DTSTART:20231029T010000
END:STANDARD
BEGIN:DAYLIGHT
TZOFFSETFROM:+0100
TZOFFSETTO:+0200
TZNAME:CEST
DTSTART:20240331T010000
END:DAYLIGHT
BEGIN:STANDARD
TZOFFSETFROM:+0200
TZOFFSETTO:+0100
TZNAME:CET
DTSTART:20241027T010000
END:STANDARD
END:VTIMEZONE
BEGIN:VEVENT
DTSTART;TZID=Europe/Berlin:20230311T150000
DTEND;TZID=Europe/Berlin:20230311T223000
DTSTAMP:20260426T003107
CREATED:20220903T133230Z
LAST-MODIFIED:20230303T110546Z
UID:2941-1678546800-1678573800@tonart-hochstadt.info
SUMMARY:Konzert
DESCRIPTION:Haven’t Met You Yet\nMODERATION\, Kirstin\nShallow\nShut up and dance\nSound of Silence\nWunder geschehn\nMODERATION\, Andreas?\nVogellied\nHappy\nL.O.V.E\nI Got Rhythm  \nPAUSE \nRosanna\nMODERATION\, ?\nOnly you\nScarborough fair\nMODERATION\, Wolf?\nPressure down\nPinball Wizard\nWe will rock you\nSCHLUSSMODERATION\, Ulla\nA million dreams\nZugabe ggfs.: Bohemian Rhapsody \nWir treten in schwarz auf mit türkis-/ aquafarbenem Akzent (ähnlich der helleren Blauvariante unserer Chor-T-Shirts bzw. den Farben unseres Logos) oder auch ganz in schwarz. Bitte bringt Einstecktuch\, Unterzieh-T-Shirt\, Schnürsenkel\, Kette\, Armband\, Krawatte… oder was auch immer Ihr als farblichen Akzent vorgesehen habt\, am Freitag\, 10.3.\, zur Generalprobe in der Kirche mit. Dann können wir ggfs. Fragen klären und „sich beißende“ Blautöne nebeneinander harmonisieren.
URL:https://tonart-hochstadt.info/event/konzert-3/
LOCATION:ev. Kirche Hochstadt\, Hauptstraße 203\, Hochstadt\, 76879\, Deutschland
CATEGORIES:Auftritt,Veranstaltung
END:VEVENT
END:VCALENDAR