BEGIN:VCALENDAR
VERSION:2.0
PRODID:-//tonart hochstadt - ECPv6.15.20//NONSGML v1.0//EN
CALSCALE:GREGORIAN
METHOD:PUBLISH
X-ORIGINAL-URL:https://tonart-hochstadt.info
X-WR-CALDESC:Veranstaltungen für tonart hochstadt
REFRESH-INTERVAL;VALUE=DURATION:PT1H
X-Robots-Tag:noindex
X-PUBLISHED-TTL:PT1H
BEGIN:VTIMEZONE
TZID:Europe/Berlin
BEGIN:DAYLIGHT
TZOFFSETFROM:+0100
TZOFFSETTO:+0200
TZNAME:CEST
DTSTART:20220327T010000
END:DAYLIGHT
BEGIN:STANDARD
TZOFFSETFROM:+0200
TZOFFSETTO:+0100
TZNAME:CET
DTSTART:20221030T010000
END:STANDARD
BEGIN:DAYLIGHT
TZOFFSETFROM:+0100
TZOFFSETTO:+0200
TZNAME:CEST
DTSTART:20230326T010000
END:DAYLIGHT
BEGIN:STANDARD
TZOFFSETFROM:+0200
TZOFFSETTO:+0100
TZNAME:CET
DTSTART:20231029T010000
END:STANDARD
BEGIN:DAYLIGHT
TZOFFSETFROM:+0100
TZOFFSETTO:+0200
TZNAME:CEST
DTSTART:20240331T010000
END:DAYLIGHT
BEGIN:STANDARD
TZOFFSETFROM:+0200
TZOFFSETTO:+0100
TZNAME:CET
DTSTART:20241027T010000
END:STANDARD
END:VTIMEZONE
BEGIN:VEVENT
DTSTART;TZID=Europe/Berlin:20230715T163000
DTEND;TZID=Europe/Berlin:20230715T230000
DTSTAMP:20260425T175234
CREATED:20230116T102839Z
LAST-MODIFIED:20230116T102839Z
UID:2970-1689438600-1689462000@tonart-hochstadt.info
SUMMARY:Auftritt bei Contra Punkt Dammheim
DESCRIPTION:
URL:https://tonart-hochstadt.info/event/auftritt-bei-contra-punkt-dammheim/
CATEGORIES:Auftritt
END:VEVENT
BEGIN:VEVENT
DTSTART;TZID=Europe/Berlin:20230721T170000
DTEND;TZID=Europe/Berlin:20230721T233000
DTSTAMP:20260425T175234
CREATED:20230506T190113Z
LAST-MODIFIED:20230506T190219Z
UID:3111-1689958800-1689982200@tonart-hochstadt.info
SUMMARY:tonart-Sommerfest
DESCRIPTION:
URL:https://tonart-hochstadt.info/event/tonart-sommerfest/
LOCATION:Andreas‘ Grillgarten\, Hauptstraße 127\, Hochstadt\, 76879
CATEGORIES:Veranstaltung
END:VEVENT
BEGIN:VEVENT
DTSTART;TZID=Europe/Berlin:20230728T170000
DTEND;TZID=Europe/Berlin:20230728T223000
DTSTAMP:20260425T175234
CREATED:20230620T184530Z
LAST-MODIFIED:20230620T192942Z
UID:3152-1690563600-1690583400@tonart-hochstadt.info
SUMMARY:Krönung Houschder Weinprinzessin
DESCRIPTION:
URL:https://tonart-hochstadt.info/event/kroenung-houschder-weinprinzessin/
LOCATION:DGH Hochstadt\, Hauptstrasse 200\, Hochstadt\, 76829\, Deutschland
CATEGORIES:Auftritt
END:VEVENT
BEGIN:VEVENT
DTSTART;TZID=Europe/Berlin:20230728T180000
DTEND;TZID=Europe/Berlin:20230728T223000
DTSTAMP:20260425T175234
CREATED:20230726T054403Z
LAST-MODIFIED:20230726T054431Z
UID:3174-1690567200-1690583400@tonart-hochstadt.info
SUMMARY:Auftritt bei Krönung Weinprinzessin
DESCRIPTION:•	Shallow\n•	A Million Dreams\n•	L.O.V.E.\n•	So än gude Palzwei
URL:https://tonart-hochstadt.info/event/auftritt-bei-kroenung-weinprinzessin/
LOCATION:DGH Hochstadt\, Hauptstrasse 200\, Hochstadt\, 76829\, Deutschland
CATEGORIES:Auftritt
END:VEVENT
BEGIN:VEVENT
DTSTART;VALUE=DATE:20230729
DTEND;VALUE=DATE:20230825
DTSTAMP:20260425T175234
CREATED:20230506T190315Z
LAST-MODIFIED:20230620T184725Z
UID:3113-1690588800-1692921599@tonart-hochstadt.info
SUMMARY:Sommerpause
DESCRIPTION:
URL:https://tonart-hochstadt.info/event/sommerpause-2/
CATEGORIES:Veranstaltung
END:VEVENT
END:VCALENDAR