BEGIN:VCALENDAR
VERSION:2.0
PRODID:-//tonart hochstadt - ECPv6.15.20//NONSGML v1.0//EN
CALSCALE:GREGORIAN
METHOD:PUBLISH
X-ORIGINAL-URL:https://tonart-hochstadt.info
X-WR-CALDESC:Veranstaltungen für tonart hochstadt
REFRESH-INTERVAL;VALUE=DURATION:PT1H
X-Robots-Tag:noindex
X-PUBLISHED-TTL:PT1H
BEGIN:VTIMEZONE
TZID:Europe/Berlin
BEGIN:DAYLIGHT
TZOFFSETFROM:+0100
TZOFFSETTO:+0200
TZNAME:CEST
DTSTART:20230326T010000
END:DAYLIGHT
BEGIN:STANDARD
TZOFFSETFROM:+0200
TZOFFSETTO:+0100
TZNAME:CET
DTSTART:20231029T010000
END:STANDARD
BEGIN:DAYLIGHT
TZOFFSETFROM:+0100
TZOFFSETTO:+0200
TZNAME:CEST
DTSTART:20240331T010000
END:DAYLIGHT
BEGIN:STANDARD
TZOFFSETFROM:+0200
TZOFFSETTO:+0100
TZNAME:CET
DTSTART:20241027T010000
END:STANDARD
BEGIN:DAYLIGHT
TZOFFSETFROM:+0100
TZOFFSETTO:+0200
TZNAME:CEST
DTSTART:20250330T010000
END:DAYLIGHT
BEGIN:STANDARD
TZOFFSETFROM:+0200
TZOFFSETTO:+0100
TZNAME:CET
DTSTART:20251026T010000
END:STANDARD
END:VTIMEZONE
BEGIN:VEVENT
DTSTART;TZID=Europe/Berlin:20240405T180000
DTEND;TZID=Europe/Berlin:20240405T233000
DTSTAMP:20260425T020307
CREATED:20240324T190800Z
LAST-MODIFIED:20240324T190800Z
UID:3332-1712340000-1712359800@tonart-hochstadt.info
SUMMARY:Probe mit anschließendem Beisammensein
DESCRIPTION:
URL:https://tonart-hochstadt.info/event/probe-mit-anschliessendem-beisammensein/
LOCATION:Sängersaal\, Hauptstraße 200\, Hochstadt\, 76879\, Deutschland
CATEGORIES:Probe
END:VEVENT
BEGIN:VEVENT
DTSTART;TZID=Europe/Berlin:20240419T193000
DTEND;TZID=Europe/Berlin:20240419T203000
DTSTAMP:20260425T020307
CREATED:20240324T190913Z
LAST-MODIFIED:20240324T190913Z
UID:3334-1713555000-1713558600@tonart-hochstadt.info
SUMMARY:Probe: Kleingruppe
DESCRIPTION:
URL:https://tonart-hochstadt.info/event/probe-kleingruppe/
LOCATION:Sängersaal\, Hauptstraße 200\, Hochstadt\, 76879\, Deutschland
CATEGORIES:Probe
END:VEVENT
BEGIN:VEVENT
DTSTART;TZID=Europe/Berlin:20240421T143000
DTEND;TZID=Europe/Berlin:20240421T180000
DTSTAMP:20260425T020307
CREATED:20230824T081503Z
LAST-MODIFIED:20240405T084138Z
UID:3198-1713709800-1713722400@tonart-hochstadt.info
SUMMARY:Jubiläum Kreischorverband
DESCRIPTION:Bewirtung und Auftritt
URL:https://tonart-hochstadt.info/event/jubilaeum-kreischorverband/
LOCATION:DGH Hochstadt\, Hauptstrasse 200\, Hochstadt\, 76829\, Deutschland
CATEGORIES:Auftritt,Veranstaltung
END:VEVENT
END:VCALENDAR