BEGIN:VCALENDAR
VERSION:2.0
PRODID:-//tonart hochstadt - ECPv6.15.20//NONSGML v1.0//EN
CALSCALE:GREGORIAN
METHOD:PUBLISH
X-WR-CALNAME:tonart hochstadt
X-ORIGINAL-URL:https://tonart-hochstadt.info
X-WR-CALDESC:Veranstaltungen für tonart hochstadt
REFRESH-INTERVAL;VALUE=DURATION:PT1H
X-Robots-Tag:noindex
X-PUBLISHED-TTL:PT1H
BEGIN:VTIMEZONE
TZID:Europe/Berlin
BEGIN:DAYLIGHT
TZOFFSETFROM:+0100
TZOFFSETTO:+0200
TZNAME:CEST
DTSTART:20240331T010000
END:DAYLIGHT
BEGIN:STANDARD
TZOFFSETFROM:+0200
TZOFFSETTO:+0100
TZNAME:CET
DTSTART:20241027T010000
END:STANDARD
BEGIN:DAYLIGHT
TZOFFSETFROM:+0100
TZOFFSETTO:+0200
TZNAME:CEST
DTSTART:20250330T010000
END:DAYLIGHT
BEGIN:STANDARD
TZOFFSETFROM:+0200
TZOFFSETTO:+0100
TZNAME:CET
DTSTART:20251026T010000
END:STANDARD
BEGIN:DAYLIGHT
TZOFFSETFROM:+0100
TZOFFSETTO:+0200
TZNAME:CEST
DTSTART:20260329T010000
END:DAYLIGHT
BEGIN:STANDARD
TZOFFSETFROM:+0200
TZOFFSETTO:+0100
TZNAME:CET
DTSTART:20261025T010000
END:STANDARD
END:VTIMEZONE
BEGIN:VEVENT
DTSTART;TZID=Europe/Berlin:20250314T180000
DTEND;TZID=Europe/Berlin:20250314T203000
DTSTAMP:20260424T073701
CREATED:20250107T061800Z
LAST-MODIFIED:20250107T061800Z
UID:3528-1741975200-1741984200@tonart-hochstadt.info
SUMMARY:Generalprobe mit Matthias
DESCRIPTION:
URL:https://tonart-hochstadt.info/event/generalprobe-mit-matthias/
LOCATION:Sängersaal\, Hauptstraße 200\, Hochstadt\, 76879\, Deutschland
CATEGORIES:Probe
END:VEVENT
BEGIN:VEVENT
DTSTART;TZID=Europe/Berlin:20250315T170000
DTEND;TZID=Europe/Berlin:20250315T230000
DTSTAMP:20260424T073701
CREATED:20240717T200139Z
LAST-MODIFIED:20240717T200416Z
UID:3473-1742058000-1742079600@tonart-hochstadt.info
SUMMARY:Konzert
DESCRIPTION:
URL:https://tonart-hochstadt.info/event/konzert-6/
CATEGORIES:Auftritt
END:VEVENT
BEGIN:VEVENT
DTSTART;TZID=Europe/Berlin:20250316T170000
DTEND;TZID=Europe/Berlin:20250316T233000
DTSTAMP:20260424T073701
CREATED:20240717T200300Z
LAST-MODIFIED:20240717T200515Z
UID:3475-1742144400-1742167800@tonart-hochstadt.info
SUMMARY:Konzert
DESCRIPTION:
URL:https://tonart-hochstadt.info/event/konzert-7/
CATEGORIES:Auftritt
END:VEVENT
BEGIN:VEVENT
DTSTART;TZID=Europe/Berlin:20250328T200000
DTEND;TZID=Europe/Berlin:20250328T220000
DTSTAMP:20260424T073701
CREATED:20250107T061616Z
LAST-MODIFIED:20250306T140728Z
UID:3526-1743192000-1743199200@tonart-hochstadt.info
SUMMARY:ausserordentliche Mitgliederversammlung
DESCRIPTION:nach Chorprobe
URL:https://tonart-hochstadt.info/event/ausserordentliche-mitgliederversammlung/
LOCATION:Sängersaal\, Hauptstraße 200\, Hochstadt\, 76879\, Deutschland
CATEGORIES:Veranstaltung
END:VEVENT
END:VCALENDAR