BEGIN:VCALENDAR
VERSION:2.0
PRODID:-//tonart hochstadt - ECPv6.15.20//NONSGML v1.0//EN
CALSCALE:GREGORIAN
METHOD:PUBLISH
X-WR-CALNAME:tonart hochstadt
X-ORIGINAL-URL:https://tonart-hochstadt.info
X-WR-CALDESC:Veranstaltungen für tonart hochstadt
REFRESH-INTERVAL;VALUE=DURATION:PT1H
X-Robots-Tag:noindex
X-PUBLISHED-TTL:PT1H
BEGIN:VTIMEZONE
TZID:Europe/Berlin
BEGIN:DAYLIGHT
TZOFFSETFROM:+0100
TZOFFSETTO:+0200
TZNAME:CEST
DTSTART:20240331T010000
END:DAYLIGHT
BEGIN:STANDARD
TZOFFSETFROM:+0200
TZOFFSETTO:+0100
TZNAME:CET
DTSTART:20241027T010000
END:STANDARD
BEGIN:DAYLIGHT
TZOFFSETFROM:+0100
TZOFFSETTO:+0200
TZNAME:CEST
DTSTART:20250330T010000
END:DAYLIGHT
BEGIN:STANDARD
TZOFFSETFROM:+0200
TZOFFSETTO:+0100
TZNAME:CET
DTSTART:20251026T010000
END:STANDARD
BEGIN:DAYLIGHT
TZOFFSETFROM:+0100
TZOFFSETTO:+0200
TZNAME:CEST
DTSTART:20260329T010000
END:DAYLIGHT
BEGIN:STANDARD
TZOFFSETFROM:+0200
TZOFFSETTO:+0100
TZNAME:CET
DTSTART:20261025T010000
END:STANDARD
END:VTIMEZONE
BEGIN:VEVENT
DTSTART;TZID=Europe/Berlin:20250529T060000
DTEND;TZID=Europe/Berlin:20250601T230000
DTSTAMP:20260424T013945
CREATED:20240623T192622Z
LAST-MODIFIED:20240623T192622Z
UID:3468-1748498400-1748818800@tonart-hochstadt.info
SUMMARY:Chorfest 2025 Nürnberg
DESCRIPTION:
URL:https://tonart-hochstadt.info/event/chorfest-2025-nuernberg/
LOCATION:Ibis Hotel\, Nürnberg\, Steinbühler Str. 2\, Nürnberg\, 90443\, Deutschland
CATEGORIES:Auftritt,Probe,Veranstaltung
END:VEVENT
BEGIN:VEVENT
DTSTART;TZID=Europe/Berlin:20250613T200000
DTEND;TZID=Europe/Berlin:20250613T230000
DTSTAMP:20260424T013945
CREATED:20250107T061956Z
LAST-MODIFIED:20250610T132404Z
UID:3530-1749844800-1749855600@tonart-hochstadt.info
SUMMARY:Mitgliederversammlung Förderverein
DESCRIPTION:nach Probe
URL:https://tonart-hochstadt.info/event/mitgliederversammlung/
LOCATION:Sängersaal\, Hauptstraße 200\, Hochstadt\, 76879\, Deutschland
CATEGORIES:Veranstaltung
END:VEVENT
END:VCALENDAR